BEGIN:VCALENDAR
VERSION:2.0
PRODID:icalendar-ruby
CALSCALE:GREGORIAN
BEGIN:VEVENT
DTSTAMP:20260423T132832Z
UID:cf110849-84de-484a-8490-2d53dee2e047
DTSTART;TZID=Pacific/Auckland:20260426T110000
DTEND;TZID=Pacific/Auckland:20260426T113000
DESCRIPTION:Property ID# 605521
SUMMARY:Openhome for 13 Daniell Street
END:VEVENT
END:VCALENDAR
