BEGIN:VCALENDAR
VERSION:2.0
PRODID:icalendar-ruby
CALSCALE:GREGORIAN
BEGIN:VEVENT
DTSTAMP:20260423T093309Z
UID:ff0c3495-ec5b-453c-ae24-bf134dc5489a
DTSTART;VALUE=DATE:20260409
DESCRIPTION:Property ID# 605519\, Locatoin: 8 Kent Terrace\, Wellington\, T
 ime: 12:00PM
SUMMARY:Auction for 71 Jubilee Road
END:VEVENT
END:VCALENDAR
