BEGIN:VCALENDAR
VERSION:2.0
PRODID:icalendar-ruby
CALSCALE:GREGORIAN
BEGIN:VEVENT
DTSTAMP:20260419T195713Z
UID:de12fcca-d642-444d-86a6-1a0e9066dcd5
DTSTART;VALUE=DATE:20260212
DESCRIPTION:Property ID# 602241\, Locatoin: 8 Kent Terrace\, Wellington (wi
 ll not be sold prior)\, Time: 1:00PM
SUMMARY:Auction for 
END:VEVENT
END:VCALENDAR
