BEGIN:VCALENDAR
VERSION:2.0
PRODID:icalendar-ruby
CALSCALE:GREGORIAN
BEGIN:VEVENT
DTSTAMP:20260419T194737Z
UID:a69ca5e1-0006-4913-86b8-4d0255bccc7c
DTSTART;VALUE=DATE:20260129
DESCRIPTION:Property ID# 602079\, Locatoin: 8 Kent Terrace\, Wellington (wi
 ll not be sold prior)\, Time: 12:00PM
SUMMARY:Auction for 
END:VEVENT
END:VCALENDAR
