BEGIN:VCALENDAR
VERSION:2.0
PRODID:icalendar-ruby
CALSCALE:GREGORIAN
BEGIN:VEVENT
DTSTAMP:20260419T200728Z
UID:90edfb5b-555d-48c5-9d8d-fe2fc3aa3224
DTSTART;VALUE=DATE:20260205
DESCRIPTION:Property ID# 601092\, Locatoin: 8 Kent Terrace\, Wellington (wi
 ll not be sold prior)\, Time: 12:00PM
SUMMARY:Auction for 
END:VEVENT
END:VCALENDAR
