BEGIN:VCALENDAR
VERSION:2.0
PRODID:icalendar-ruby
CALSCALE:GREGORIAN
BEGIN:VEVENT
DTSTAMP:20260419T195712Z
UID:caefb775-0e61-457c-86be-60f9145246d0
DTSTART;VALUE=DATE:20251203
DESCRIPTION:Property ID# 600335\, Locatoin: 8 Kent Terrace\, Wellington (wi
 ll  not be sold prior)\, Time: 1:00PM
SUMMARY:Auction for 
END:VEVENT
END:VCALENDAR
