BEGIN:VCALENDAR
VERSION:2.0
PRODID:icalendar-ruby
CALSCALE:GREGORIAN
BEGIN:VEVENT
DTSTAMP:20260419T200415Z
UID:2a88c480-70a5-4752-85cd-cb6ecd327f07
DTSTART;VALUE=DATE:20251009
DESCRIPTION:Property ID# 597468\, Locatoin: 8 Kent Terrace\, Wellington \, 
 Time: 2:00PM
SUMMARY:Auction for 
END:VEVENT
END:VCALENDAR
