BEGIN:VCALENDAR
VERSION:2.0
PRODID:icalendar-ruby
CALSCALE:GREGORIAN
BEGIN:VEVENT
DTSTAMP:20260419T161129Z
UID:edd70494-e310-49c1-98ed-cf9e8367718a
DTSTART;VALUE=DATE:20250925
DESCRIPTION:Property ID# 596938\, Locatoin: 2/153 Karori Road\, Wellington\
 , Time: 12:00PM
SUMMARY:Auction for 
END:VEVENT
END:VCALENDAR
