BEGIN:VCALENDAR
VERSION:2.0
PRODID:icalendar-ruby
CALSCALE:GREGORIAN
BEGIN:VEVENT
DTSTAMP:20260423T093304Z
UID:7c40dfd8-616f-4185-beca-7e4da5678332
DTSTART;VALUE=DATE:20250904
DESCRIPTION:Property ID# 595948\, Locatoin: 8 Kent Terrace\, Wellington\, T
 ime: 12:00PM
SUMMARY:Auction for 
END:VEVENT
END:VCALENDAR
