BEGIN:VCALENDAR
VERSION:2.0
PRODID:icalendar-ruby
CALSCALE:GREGORIAN
BEGIN:VEVENT
DTSTAMP:20260419T200041Z
UID:705f61d4-3a30-45c7-9ea4-c0f9e4c13cfc
DTSTART;VALUE=DATE:20250731
DESCRIPTION:Property ID# 594815\, Locatoin: 8 Kent Terrace\, Wellington (wi
 ll  not be sold prior)\, Time: 12:00PM
SUMMARY:Auction for 
END:VEVENT
END:VCALENDAR
