BEGIN:VCALENDAR
VERSION:2.0
PRODID:icalendar-ruby
CALSCALE:GREGORIAN
BEGIN:VEVENT
DTSTAMP:20260423T093413Z
UID:e6aa3348-c43d-46d0-bea7-fe20b5e44dfa
DTSTART;VALUE=DATE:20250703
DESCRIPTION:Property ID# 593889\, Locatoin: 8 Kent Terrace\, Wellington (wi
 ll not be sold prior)\, Time: 1:00PM
SUMMARY:Auction for 
END:VEVENT
END:VCALENDAR
