BEGIN:VCALENDAR
VERSION:2.0
PRODID:icalendar-ruby
CALSCALE:GREGORIAN
BEGIN:VEVENT
DTSTAMP:20260423T093400Z
UID:6dea19d5-7f86-4b66-afb5-7efcb5bf3c8c
DTSTART;VALUE=DATE:20250514
DESCRIPTION:Property ID# 591385\, Locatoin: 8 Kent Terrace\, Wellington\, T
 ime: 1:00PM
SUMMARY:Auction for 
END:VEVENT
END:VCALENDAR
