BEGIN:VCALENDAR
VERSION:2.0
PRODID:icalendar-ruby
CALSCALE:GREGORIAN
BEGIN:VEVENT
DTSTAMP:20260419T161205Z
UID:22f161f4-b969-4a34-ab65-6addabda3a5b
DTSTART;VALUE=DATE:20250411
DESCRIPTION:Property ID# 590538\, Locatoin: 2/153 Karori Road\, Wellington\
 , Time: 12:00PM
SUMMARY:Auction for 
END:VEVENT
END:VCALENDAR
