BEGIN:VCALENDAR
VERSION:2.0
PRODID:icalendar-ruby
CALSCALE:GREGORIAN
BEGIN:VEVENT
DTSTAMP:20260419T155440Z
UID:e20d7049-faa4-4bbc-8297-125495064af7
DTSTART;VALUE=DATE:20250306
DESCRIPTION:Property ID# 588105\, Locatoin: 2/153 Karori Road\, Wellington\
 , Time: 12:00PM
SUMMARY:Auction for 
END:VEVENT
END:VCALENDAR
