BEGIN:VCALENDAR
VERSION:2.0
PRODID:icalendar-ruby
CALSCALE:GREGORIAN
BEGIN:VEVENT
DTSTAMP:20260419T161616Z
UID:00c623fc-9f6d-4c5d-b52f-c48f96c0f5c0
DTSTART;VALUE=DATE:20250226
DESCRIPTION:Property ID# 587788\, Locatoin: 2/153 Karori Road\, Wellington\
 , Time: 2:00PM
SUMMARY:Auction for 
END:VEVENT
END:VCALENDAR
