BEGIN:VCALENDAR
VERSION:2.0
PRODID:icalendar-ruby
CALSCALE:GREGORIAN
BEGIN:VEVENT
DTSTAMP:20260423T093621Z
UID:435e2fc5-0547-43cb-bcdb-24170f4058dc
DTSTART;VALUE=DATE:20250123
DESCRIPTION:Property ID# 585761\, Locatoin: 2/153 Karori Road\, Wellington\
 , Time: 12:00PM
SUMMARY:Auction for 
END:VEVENT
END:VCALENDAR
