BEGIN:VCALENDAR
VERSION:2.0
PRODID:icalendar-ruby
CALSCALE:GREGORIAN
BEGIN:VEVENT
DTSTAMP:20260423T111617Z
UID:0e3c5f88-467d-412a-b61c-2ce1b077b9c7
DTSTART;VALUE=DATE:20241205
DESCRIPTION:Property ID# 584397\, Locatoin: 2/153 Karori Road\, Wellington\
 , Time: 12:00PM
SUMMARY:Auction for 
END:VEVENT
END:VCALENDAR
