BEGIN:VCALENDAR
VERSION:2.0
PRODID:icalendar-ruby
CALSCALE:GREGORIAN
BEGIN:VEVENT
DTSTAMP:20260419T161246Z
UID:20d2eea0-bad3-4f40-a44a-e2f9cd65f4e4
DTSTART;VALUE=DATE:20241010
DESCRIPTION:Property ID# 581071\, Locatoin: 2/153 Karori Road\, Wellington\
 , Time: 12:00PM
SUMMARY:Auction for 
END:VEVENT
END:VCALENDAR
