BEGIN:VCALENDAR
VERSION:2.0
PRODID:icalendar-ruby
CALSCALE:GREGORIAN
BEGIN:VEVENT
DTSTAMP:20260425T132016Z
UID:7376bda8-78ee-4c26-a0ed-157d89d0b573
DTSTART;VALUE=DATE:20240904
DESCRIPTION:Property ID# 579479\, Locatoin: 176 Main Road\, Tawa\, Time: 1:
 00PM
SUMMARY:Auction for 
END:VEVENT
END:VCALENDAR
