BEGIN:VCALENDAR
VERSION:2.0
PRODID:icalendar-ruby
CALSCALE:GREGORIAN
BEGIN:VEVENT
DTSTAMP:20260423T093708Z
UID:20b5fd52-377a-46a8-b309-e2a53d1a5e9c
DTSTART;VALUE=DATE:20240604
DESCRIPTION:Property ID# 576610\, Locatoin: 8 Kent Terrace\, Wellington\, T
 ime: 12:00PM
SUMMARY:Auction for 
END:VEVENT
END:VCALENDAR
