BEGIN:VCALENDAR
VERSION:2.0
PRODID:icalendar-ruby
CALSCALE:GREGORIAN
BEGIN:VEVENT
DTSTAMP:20260425T105635Z
UID:7bb20b60-5db5-4c7d-888c-29e0956c8ad2
DTSTART;VALUE=DATE:20221214
DESCRIPTION:Property ID# 548514\, Time: 12:00PM
SUMMARY:Auction for 
END:VEVENT
END:VCALENDAR
