BEGIN:VCALENDAR
VERSION:2.0
PRODID:icalendar-ruby
CALSCALE:GREGORIAN
BEGIN:VEVENT
DTSTAMP:20260422T113001Z
UID:c27b33ae-50a0-40e0-be45-8318fd518580
DTSTART;VALUE=DATE:20220708
DESCRIPTION:Property ID# 538265\, Locatoin: Harcourts Auction Rooms Welling
 ton\, Time: 12:00PM
SUMMARY:Auction for 
END:VEVENT
END:VCALENDAR
