BEGIN:VCALENDAR
VERSION:2.0
PRODID:icalendar-ruby
CALSCALE:GREGORIAN
BEGIN:VEVENT
DTSTAMP:20260423T093207Z
UID:103fc1d8-69a7-4ea0-bafe-9cd20d4b2643
DTSTART;VALUE=DATE:20210224
DESCRIPTION:Property ID# 501596\, Locatoin: Harcourts Upper Hutt Office\, 1
 1 King Street\, Upper Hutt (unless sold prior)\, Time: 12:00PM
SUMMARY:Auction for 
END:VEVENT
END:VCALENDAR
